BEGIN:VCALENDAR
VERSION:2.0
PRODID:-//Aktionsbündnis Klima und Umwelt Jena - ECPv6.15.17//NONSGML v1.0//EN
CALSCALE:GREGORIAN
METHOD:PUBLISH
X-WR-CALNAME:Aktionsbündnis Klima und Umwelt Jena
X-ORIGINAL-URL:https://klimabuendnis-jena.de
X-WR-CALDESC:Veranstaltungen für Aktionsbündnis Klima und Umwelt Jena
REFRESH-INTERVAL;VALUE=DURATION:PT1H
X-Robots-Tag:noindex
X-PUBLISHED-TTL:PT1H
BEGIN:VTIMEZONE
TZID:Europe/Berlin
BEGIN:DAYLIGHT
TZOFFSETFROM:+0100
TZOFFSETTO:+0200
TZNAME:CEST
DTSTART:20250330T010000
END:DAYLIGHT
BEGIN:STANDARD
TZOFFSETFROM:+0200
TZOFFSETTO:+0100
TZNAME:CET
DTSTART:20251026T010000
END:STANDARD
BEGIN:DAYLIGHT
TZOFFSETFROM:+0100
TZOFFSETTO:+0200
TZNAME:CEST
DTSTART:20260329T010000
END:DAYLIGHT
BEGIN:STANDARD
TZOFFSETFROM:+0200
TZOFFSETTO:+0100
TZNAME:CET
DTSTART:20261025T010000
END:STANDARD
BEGIN:DAYLIGHT
TZOFFSETFROM:+0100
TZOFFSETTO:+0200
TZNAME:CEST
DTSTART:20270328T010000
END:DAYLIGHT
BEGIN:STANDARD
TZOFFSETFROM:+0200
TZOFFSETTO:+0100
TZNAME:CET
DTSTART:20271031T010000
END:STANDARD
END:VTIMEZONE
BEGIN:VEVENT
DTSTART;TZID=Europe/Berlin:20260423T180000
DTEND;TZID=Europe/Berlin:20260423T190000
DTSTAMP:20260423T082356
CREATED:20251220T004630Z
LAST-MODIFIED:20251220T004630Z
UID:4174-1776967200-1776970800@klimabuendnis-jena.de
SUMMARY:Schnupperexkursion Ornithologie 01 - für Einsteigende und Neugierige
DESCRIPTION:18.00 Uhr Grießbrücke / Jena \nKeine Anmeldung erforderlich \n 
URL:https://klimabuendnis-jena.de/veranstaltung/schnupperexkursion-ornithologie-01-fuer-einsteigende-und-neugierige/
LOCATION:Jena\, Jena\, Deutschland
END:VEVENT
BEGIN:VEVENT
DTSTART;TZID=Europe/Berlin:20260423T180000
DTEND;TZID=Europe/Berlin:20260423T203000
DTSTAMP:20260423T082356
CREATED:20260106T083806Z
LAST-MODIFIED:20260106T083806Z
UID:4326-1776967200-1776976200@klimabuendnis-jena.de
SUMMARY:NABU-Fachgruppe Ornithologie Jena: Schnupperexkursion für Einsteigende und Neugierige
DESCRIPTION:Ornithologische Exkursion
URL:https://klimabuendnis-jena.de/veranstaltung/nabu-fachgruppe-ornithologie-jena-schnupperexkursion-fuer-einsteigende-und-neugierige/
LOCATION:An der Grießbrücke\, An der Grießbrücke\, Jena
END:VEVENT
END:VCALENDAR