BEGIN:VCALENDAR
VERSION:2.0
PRODID:-//Aktionsbündnis Klima und Umwelt Jena - ECPv6.15.17//NONSGML v1.0//EN
CALSCALE:GREGORIAN
METHOD:PUBLISH
X-WR-CALNAME:Aktionsbündnis Klima und Umwelt Jena
X-ORIGINAL-URL:https://klimabuendnis-jena.de
X-WR-CALDESC:Veranstaltungen für Aktionsbündnis Klima und Umwelt Jena
REFRESH-INTERVAL;VALUE=DURATION:PT1H
X-Robots-Tag:noindex
X-PUBLISHED-TTL:PT1H
BEGIN:VTIMEZONE
TZID:Europe/Berlin
BEGIN:DAYLIGHT
TZOFFSETFROM:+0100
TZOFFSETTO:+0200
TZNAME:CEST
DTSTART:20250330T010000
END:DAYLIGHT
BEGIN:STANDARD
TZOFFSETFROM:+0200
TZOFFSETTO:+0100
TZNAME:CET
DTSTART:20251026T010000
END:STANDARD
BEGIN:DAYLIGHT
TZOFFSETFROM:+0100
TZOFFSETTO:+0200
TZNAME:CEST
DTSTART:20260329T010000
END:DAYLIGHT
BEGIN:STANDARD
TZOFFSETFROM:+0200
TZOFFSETTO:+0100
TZNAME:CET
DTSTART:20261025T010000
END:STANDARD
BEGIN:DAYLIGHT
TZOFFSETFROM:+0100
TZOFFSETTO:+0200
TZNAME:CEST
DTSTART:20270328T010000
END:DAYLIGHT
BEGIN:STANDARD
TZOFFSETFROM:+0200
TZOFFSETTO:+0100
TZNAME:CET
DTSTART:20271031T010000
END:STANDARD
END:VTIMEZONE
BEGIN:VEVENT
DTSTART;TZID=Europe/Berlin:20260307T100000
DTEND;TZID=Europe/Berlin:20260307T150000
DTSTAMP:20260422T070828
CREATED:20251220T002823Z
LAST-MODIFIED:20251220T002823Z
UID:4160-1772877600-1772895600@klimabuendnis-jena.de
SUMMARY:Reparier-Café Jena
DESCRIPTION:Wir sind in unserem Stammdomizil\, dem Seniorentreff Jahresringe zu Besuch. Kommt gerne mit euren defekten Geräten\, Fahrrädern\, Textilien usw. vorbei!
URL:https://klimabuendnis-jena.de/veranstaltung/reparier-cafe-jena-3/
LOCATION:Seniorentreff Jahresringe\, Leipziger Straße 61\, Jena\, Thüringen\, 07743\, Deutschland
END:VEVENT
END:VCALENDAR