BEGIN:VCALENDAR
VERSION:2.0
PRODID:-//Aktionsbündnis Klima und Umwelt Jena - ECPv6.15.17//NONSGML v1.0//EN
CALSCALE:GREGORIAN
METHOD:PUBLISH
X-WR-CALNAME:Aktionsbündnis Klima und Umwelt Jena
X-ORIGINAL-URL:https://klimabuendnis-jena.de
X-WR-CALDESC:Veranstaltungen für Aktionsbündnis Klima und Umwelt Jena
REFRESH-INTERVAL;VALUE=DURATION:PT1H
X-Robots-Tag:noindex
X-PUBLISHED-TTL:PT1H
BEGIN:VTIMEZONE
TZID:Europe/Berlin
BEGIN:DAYLIGHT
TZOFFSETFROM:+0100
TZOFFSETTO:+0200
TZNAME:CEST
DTSTART:20250330T010000
END:DAYLIGHT
BEGIN:STANDARD
TZOFFSETFROM:+0200
TZOFFSETTO:+0100
TZNAME:CET
DTSTART:20251026T010000
END:STANDARD
BEGIN:DAYLIGHT
TZOFFSETFROM:+0100
TZOFFSETTO:+0200
TZNAME:CEST
DTSTART:20260329T010000
END:DAYLIGHT
BEGIN:STANDARD
TZOFFSETFROM:+0200
TZOFFSETTO:+0100
TZNAME:CET
DTSTART:20261025T010000
END:STANDARD
BEGIN:DAYLIGHT
TZOFFSETFROM:+0100
TZOFFSETTO:+0200
TZNAME:CEST
DTSTART:20270328T010000
END:DAYLIGHT
BEGIN:STANDARD
TZOFFSETFROM:+0200
TZOFFSETTO:+0100
TZNAME:CET
DTSTART:20271031T010000
END:STANDARD
END:VTIMEZONE
BEGIN:VEVENT
DTSTART;TZID=Europe/Berlin:20260226T200000
DTEND;TZID=Europe/Berlin:20260226T213000
DTSTAMP:20260421T205912
CREATED:20260105T080204Z
LAST-MODIFIED:20260106T082217Z
UID:4216-1772136000-1772141400@klimabuendnis-jena.de
SUMMARY:NABU-Fachgruppe Ornithologie Jena: Vogelstimmen Lernen Teil 1
DESCRIPTION:Hinweise zu individuellen Methoden eines erfolgreichen Erschließens
URL:https://klimabuendnis-jena.de/veranstaltung/nabu-fachgruppe-ornithologie-vogelstimmen-lernen-teil-1/
LOCATION:Seminarraum 306\, Uni-Jena\, Ernst-Abbe-Platz/Zeiss-Campus\, Ernst-Abbe-Platz\, Jena\, Thüringen\, 07743
END:VEVENT
END:VCALENDAR